BEGIN:VCALENDAR
VERSION:2.0
PRODID:-//jEvents 2.0 for Joomla//EN
CALSCALE:GREGORIAN
METHOD:PUBLISH
BEGIN:VTIMEZONE
TZID:Europe/Warsaw
BEGIN:STANDARD
DTSTART:20161030T020000
RDATE:20170326T030000
TZOFFSETFROM:+0200
TZOFFSETTO:+0100
TZNAME:Europe/Warsaw CET
END:STANDARD
BEGIN:STANDARD
DTSTART:20171029T020000
RDATE:20180325T030000
TZOFFSETFROM:+0200
TZOFFSETTO:+0100
TZNAME:Europe/Warsaw CET
END:STANDARD
BEGIN:STANDARD
DTSTART:20181028T020000
RDATE:20190331T030000
TZOFFSETFROM:+0200
TZOFFSETTO:+0100
TZNAME:Europe/Warsaw CET
END:STANDARD
BEGIN:STANDARD
DTSTART:20191027T020000
RDATE:20200329T030000
TZOFFSETFROM:+0200
TZOFFSETTO:+0100
TZNAME:Europe/Warsaw CET
END:STANDARD
BEGIN:STANDARD
DTSTART:20201025T020000
RDATE:20210328T030000
TZOFFSETFROM:+0200
TZOFFSETTO:+0100
TZNAME:Europe/Warsaw CET
END:STANDARD
BEGIN:STANDARD
DTSTART:20211031T020000
RDATE:20220327T030000
TZOFFSETFROM:+0200
TZOFFSETTO:+0100
TZNAME:Europe/Warsaw CET
END:STANDARD
BEGIN:STANDARD
DTSTART:20221030T020000
RDATE:20230326T030000
TZOFFSETFROM:+0200
TZOFFSETTO:+0100
TZNAME:Europe/Warsaw CET
END:STANDARD
BEGIN:STANDARD
DTSTART:20231029T020000
RDATE:20240331T030000
TZOFFSETFROM:+0200
TZOFFSETTO:+0100
TZNAME:Europe/Warsaw CET
END:STANDARD
BEGIN:STANDARD
DTSTART:20241027T020000
RDATE:20250330T030000
TZOFFSETFROM:+0200
TZOFFSETTO:+0100
TZNAME:Europe/Warsaw CET
END:STANDARD
BEGIN:STANDARD
DTSTART:20251026T020000
RDATE:20260329T030000
TZOFFSETFROM:+0200
TZOFFSETTO:+0100
TZNAME:Europe/Warsaw CET
END:STANDARD
BEGIN:STANDARD
DTSTART:20261025T020000
RDATE:20270328T030000
TZOFFSETFROM:+0200
TZOFFSETTO:+0100
TZNAME:Europe/Warsaw CET
END:STANDARD
BEGIN:STANDARD
DTSTART:20271031T020000
RDATE:20280326T030000
TZOFFSETFROM:+0200
TZOFFSETTO:+0100
TZNAME:Europe/Warsaw CET
END:STANDARD
BEGIN:STANDARD
DTSTART:20281029T020000
RDATE:20290325T030000
TZOFFSETFROM:+0200
TZOFFSETTO:+0100
TZNAME:Europe/Warsaw CET
END:STANDARD
BEGIN:STANDARD
DTSTART:20291028T020000
RDATE:20300331T030000
TZOFFSETFROM:+0200
TZOFFSETTO:+0100
TZNAME:Europe/Warsaw CET
END:STANDARD
BEGIN:STANDARD
DTSTART:20301027T020000
RDATE:20310330T030000
TZOFFSETFROM:+0200
TZOFFSETTO:+0100
TZNAME:Europe/Warsaw CET
END:STANDARD
BEGIN:DAYLIGHT
DTSTART:20161024T110000
RDATE:20161030T020000
TZOFFSETFROM:+0100
TZOFFSETTO:+0200
TZNAME:Europe/Warsaw CEST
END:DAYLIGHT
BEGIN:DAYLIGHT
DTSTART:20170326T030000
RDATE:20171029T020000
TZOFFSETFROM:+0100
TZOFFSETTO:+0200
TZNAME:Europe/Warsaw CEST
END:DAYLIGHT
BEGIN:DAYLIGHT
DTSTART:20180325T030000
RDATE:20181028T020000
TZOFFSETFROM:+0100
TZOFFSETTO:+0200
TZNAME:Europe/Warsaw CEST
END:DAYLIGHT
BEGIN:DAYLIGHT
DTSTART:20190331T030000
RDATE:20191027T020000
TZOFFSETFROM:+0100
TZOFFSETTO:+0200
TZNAME:Europe/Warsaw CEST
END:DAYLIGHT
BEGIN:DAYLIGHT
DTSTART:20200329T030000
RDATE:20201025T020000
TZOFFSETFROM:+0100
TZOFFSETTO:+0200
TZNAME:Europe/Warsaw CEST
END:DAYLIGHT
BEGIN:DAYLIGHT
DTSTART:20210328T030000
RDATE:20211031T020000
TZOFFSETFROM:+0100
TZOFFSETTO:+0200
TZNAME:Europe/Warsaw CEST
END:DAYLIGHT
BEGIN:DAYLIGHT
DTSTART:20220327T030000
RDATE:20221030T020000
TZOFFSETFROM:+0100
TZOFFSETTO:+0200
TZNAME:Europe/Warsaw CEST
END:DAYLIGHT
BEGIN:DAYLIGHT
DTSTART:20230326T030000
RDATE:20231029T020000
TZOFFSETFROM:+0100
TZOFFSETTO:+0200
TZNAME:Europe/Warsaw CEST
END:DAYLIGHT
BEGIN:DAYLIGHT
DTSTART:20240331T030000
RDATE:20241027T020000
TZOFFSETFROM:+0100
TZOFFSETTO:+0200
TZNAME:Europe/Warsaw CEST
END:DAYLIGHT
BEGIN:DAYLIGHT
DTSTART:20250330T030000
RDATE:20251026T020000
TZOFFSETFROM:+0100
TZOFFSETTO:+0200
TZNAME:Europe/Warsaw CEST
END:DAYLIGHT
BEGIN:DAYLIGHT
DTSTART:20260329T030000
RDATE:20261025T020000
TZOFFSETFROM:+0100
TZOFFSETTO:+0200
TZNAME:Europe/Warsaw CEST
END:DAYLIGHT
BEGIN:DAYLIGHT
DTSTART:20270328T030000
RDATE:20271031T020000
TZOFFSETFROM:+0100
TZOFFSETTO:+0200
TZNAME:Europe/Warsaw CEST
END:DAYLIGHT
BEGIN:DAYLIGHT
DTSTART:20280326T030000
RDATE:20281029T020000
TZOFFSETFROM:+0100
TZOFFSETTO:+0200
TZNAME:Europe/Warsaw CEST
END:DAYLIGHT
BEGIN:DAYLIGHT
DTSTART:20290325T030000
RDATE:20291028T020000
TZOFFSETFROM:+0100
TZOFFSETTO:+0200
TZNAME:Europe/Warsaw CEST
END:DAYLIGHT
BEGIN:DAYLIGHT
DTSTART:20300331T030000
RDATE:20301027T020000
TZOFFSETFROM:+0100
TZOFFSETTO:+0200
TZNAME:Europe/Warsaw CEST
END:DAYLIGHT
END:VTIMEZONE
BEGIN:VEVENT
UID:97eaf96a04027ca4e0453e0ce84414ca
CATEGORIES:projekt Geothermal4PL
CREATED:20170816T203904
SUMMARY:Konferencja Płytka energia geotermalna dla Programu Mieszkanie Plus – sesja zamykająca projekt Geothermal4PL
LOCATION:Warszawa, 7. Międzynarodowe Targi Energii Odnawialnej i Efektywności Energe
 tycznej RENEXPO 
DESCRIPTION;ENCODING=QUOTED-PRINTABLE:\n\n&nbsp;\nKonferencja Płytka energia geotermalna dla Programu Mieszkanie 
 Plus – sesja zamykająca projekt Geothermal4PL\n\nPodczas konferencji zaprez
 entowane zostaną główne założenia oraz wyniki projektu Geothermal4PL "Wspar
 cie zrównoważonego rozwoju i wykorzystania płytkiej energii geotermalnej na
  terenie obszarów objętych programem Mieszkanie Plus w Polsce", realizowane
 go w ramach Programu Operacyjnego PL04 Mechanizmu Finansowego EOG 2009-2014
  w ramach Funduszu Współpracy Dwustronnej.\n\n\nKonferencja odbędzie się po
 dczas 7. Międzynarodowych Targów Energii Odnawialnej i Efektywności Energet
 ycznej RENEXPO® Poland w Warszawskim Centrum EXPO XXI, ul. Prądzyńskiego 12
 /14.\n\n\nPo sesji referatowej odbędzie się dyskusja panelowa dotycząca pro
 jektu oraz wykorzystania płytkiej energii geotermalnej poprzez zastosowanie
  gruntowych pomp ciepła.\n\n\n&nbsp;\n\n\nPROGRAM KONFERENCJI:\n\n\n10.30 –
  11.00 Rejestracja uczestników i kawa powitalna\n\n\n\nSESJA\n\n\n11.00 – 1
 1.20 Powitanie uczestników i gości przez przedstawicieli Państwowego Instyt
 utu Geologicznego – Państwowego Instytut Badawczego i Christian Michelsen R
 esearch AS\n\n\n\n11.20 – 11.40 Rezultaty projektu Geothermal4PL narzędziem
  wsparcia rozwoju płytkiej energii geotermalnej na obszarach Programu Miesz
 kanie Plus - dr Maciej Kłonowski, PIG-PIB &amp; dr inż. Kirsti Midttømme, C
 MR AS \n\n\n\n11.40 – 12.00&nbsp;Zastosowanie płytkiej energii geotermalnej
  w Polsce i Norwegii do ogrzewania i chłodzenia budynków – wybrane przykład
 y - mgr Eliza Dziekan-Kamińska, PIG-PIB, dr inż. Kirsti Midttømme, CMR AS, 
 Ove Sivertsen, B. FONDENES, Henrik Holmberg, ASPLAN VIAK, prof. Randi K. Ra
 mstad, NTNU\n\n\n12.00 – 12.20&nbsp;Wprowadzenie do Programu Mieszkanie Plu
 s - mgr inż. Jacek Bielecki, doradca BGK Nieruchomości\n\n\n12.20 – 12.40 O
 cena potencjału płytkiej energii geotermicznej oraz lokalizacja i optymaliz
 acja instalacji gruntowych pomp ciepła - dr Jacek Kocyła, PIG-PIB, mgr Eliz
 a Dziekan-Kamińska, PIG-PIB &amp; mgr inż. Grzegorz Ryżyński, PIG-PIB\n\n\n
 12.40 – 13.00 Wytyczne dla zrównoważonego rozwoju i użytkowania płytkiej en
 ergii geotermalnej w obszarach zabudowy mieszkaniowej w Polsce i możliwości
  jej przyszłych zastosowań - mgr inż. Grzegorz Ryżyński, PIG-PIB, &nbsp;dr 
 Wiesław Kozdrój, PIG-PIB &amp; dr Maciej Kłonowski, PIG-PIB\n\n\n13.00 – 14
 .00 Przerwa obiadowa\n\n\n14.00 – 14.20 Dobre praktyki, czyli jak uniknąć z
 agrożeń dla środowiska naturalnego związanych z instalacjami płytkiej energ
 ii geotermalnej - dr Maciej Kłonowski, PIG-PIB &amp; dr inż. Kirsti Midttøm
 me, CMR AS\n\n\n14.20 – 14.40 Analiza kosztów użytkowania instalacji wykorz
 ystujących płytką energię geotermalną - Jakub Koczorowski, PORT PC &amp; Pa
 weł Lachman, PORT PC\n\n\n14.40 – 15.00 Projekty dotyczące energii geoterma
 lnej finansowane ze środków Mechanizmu Finansowego EOG 2009 - 2014 w ramach
  Funduszu Współpracy Dwustronnej – komplementarność rezultatów - dr hab. Be
 ata Kępińska, prof. IGSMIE PA\n\n\n15.00 – 15.30 Panel dyskusyjny i podsumo
 wanie konferencji\n\n\nOrganizatorowi, w przypadku zaistnienia potrzeby, pr
 zysługuje prawo do wprowadzania zmian w programie Konferencji. O wszelkich 
 zmianach Organizator zawiadomi poprzez zamieszczenie informacji na stronie 
 internetowej Projektu lub w trakcie trwania Konferencji\n\n\nWszystkim zare
 jestrowanym uczestnikom organizatorzy zapewniają symultaniczne tłumaczenia 
 polsko-angielskie, przerwę kawową i obiad.\n\n\nGrupa docelowa: uczestnicy 
 i odwiedzający targi RENEXPO, a w szczególności: administracja geologiczna,
  projektanci i instalatorzy gruntowych pomp ciepła, firmy wiertnicze, inwes
 torzy.\n\n\n&nbsp;Wstęp bezpłatny! Liczba miejsc ograniczona, decyduje kole
 jność zgłoszeń.\n\n\n\nRejestracja na konferencję jest prowadzona na stroni
 e: www.renexpo-warsaw.com/konferencje.html\n\n\nPatronat medialny nad konfe
 rencją objął Przegląd Geologiczny.\n
CONTACT:Państwowy Instytut Geologiczny - PIB; Christian Michelsen Research AS (CMR AS) 
DTSTAMP:20260419T185324Z
DTSTART;TZID=Europe/Warsaw:20171025T110000
DTEND;TZID=Europe/Warsaw:20171025T150000
SEQUENCE:0
TRANSP:OPAQUE
END:VEVENT
END:VCALENDAR