BEGIN:VCALENDAR
VERSION:2.0
PRODID:-//jEvents 2.0 for Joomla//EN
CALSCALE:GREGORIAN
METHOD:PUBLISH
BEGIN:VTIMEZONE
TZID:Europe/Warsaw
BEGIN:STANDARD
DTSTART:20231029T020000
RDATE:20240331T030000
TZOFFSETFROM:+0200
TZOFFSETTO:+0100
TZNAME:Europe/Warsaw CET
END:STANDARD
BEGIN:STANDARD
DTSTART:20241027T020000
RDATE:20250330T030000
TZOFFSETFROM:+0200
TZOFFSETTO:+0100
TZNAME:Europe/Warsaw CET
END:STANDARD
BEGIN:STANDARD
DTSTART:20251026T020000
RDATE:20260329T030000
TZOFFSETFROM:+0200
TZOFFSETTO:+0100
TZNAME:Europe/Warsaw CET
END:STANDARD
BEGIN:STANDARD
DTSTART:20261025T020000
RDATE:20270328T030000
TZOFFSETFROM:+0200
TZOFFSETTO:+0100
TZNAME:Europe/Warsaw CET
END:STANDARD
BEGIN:STANDARD
DTSTART:20271031T020000
RDATE:20280326T030000
TZOFFSETFROM:+0200
TZOFFSETTO:+0100
TZNAME:Europe/Warsaw CET
END:STANDARD
BEGIN:STANDARD
DTSTART:20281029T020000
RDATE:20290325T030000
TZOFFSETFROM:+0200
TZOFFSETTO:+0100
TZNAME:Europe/Warsaw CET
END:STANDARD
BEGIN:STANDARD
DTSTART:20291028T020000
RDATE:20300331T030000
TZOFFSETFROM:+0200
TZOFFSETTO:+0100
TZNAME:Europe/Warsaw CET
END:STANDARD
BEGIN:STANDARD
DTSTART:20301027T020000
RDATE:20310330T030000
TZOFFSETFROM:+0200
TZOFFSETTO:+0100
TZNAME:Europe/Warsaw CET
END:STANDARD
BEGIN:DAYLIGHT
DTSTART:20230529T100000
RDATE:20231029T020000
TZOFFSETFROM:+0100
TZOFFSETTO:+0200
TZNAME:Europe/Warsaw CEST
END:DAYLIGHT
BEGIN:DAYLIGHT
DTSTART:20240331T030000
RDATE:20241027T020000
TZOFFSETFROM:+0100
TZOFFSETTO:+0200
TZNAME:Europe/Warsaw CEST
END:DAYLIGHT
BEGIN:DAYLIGHT
DTSTART:20250330T030000
RDATE:20251026T020000
TZOFFSETFROM:+0100
TZOFFSETTO:+0200
TZNAME:Europe/Warsaw CEST
END:DAYLIGHT
BEGIN:DAYLIGHT
DTSTART:20260329T030000
RDATE:20261025T020000
TZOFFSETFROM:+0100
TZOFFSETTO:+0200
TZNAME:Europe/Warsaw CEST
END:DAYLIGHT
BEGIN:DAYLIGHT
DTSTART:20270328T030000
RDATE:20271031T020000
TZOFFSETFROM:+0100
TZOFFSETTO:+0200
TZNAME:Europe/Warsaw CEST
END:DAYLIGHT
BEGIN:DAYLIGHT
DTSTART:20280326T030000
RDATE:20281029T020000
TZOFFSETFROM:+0100
TZOFFSETTO:+0200
TZNAME:Europe/Warsaw CEST
END:DAYLIGHT
BEGIN:DAYLIGHT
DTSTART:20290325T030000
RDATE:20291028T020000
TZOFFSETFROM:+0100
TZOFFSETTO:+0200
TZNAME:Europe/Warsaw CEST
END:DAYLIGHT
BEGIN:DAYLIGHT
DTSTART:20300331T030000
RDATE:20301027T020000
TZOFFSETFROM:+0100
TZOFFSETTO:+0200
TZNAME:Europe/Warsaw CEST
END:DAYLIGHT
END:VTIMEZONE
BEGIN:VEVENT
UID:ed1b389d481ba866c727233e5bcfbd1a
CATEGORIES:Inne
CREATED:20240529T101951
SUMMARY:DUŻY ERYK 2022 przyznany!
LOCATION:Muzeum Karykatury
DESCRIPTION;ENCODING=QUOTED-PRINTABLE:\n\nZ przyjemnością informujemy, że rysownik - pan Dariusz Łabędzki, został
  11 maja 2024 r. uhonorowany prestiżową nagrodą ERYK za pomysł i organizacj
 ę międzynarodowego konkursu satyrycznego „Albert Einstein. Pokojowe wykorzy
 stanie energii jądrowej” oraz wystawy pokonkursowej we wnętrzach Muzeum Geo
 logicznego PIG-PIB w marcu 2022 r.\n\n\nNagrody ERYK przyznawane są od 1999
  r. przez Stowarzyszenie Polskich Artystów Karykatury osobom, organizacjom,
  instytucjom lub wydarzeniom, które szczególnie wyróżniły się w minionym ro
 ku. Komitet docenił znaczenie konkursu oraz wystawy i przyznał panu Dariusz
 owi Łabędzkiemu nagrodę główną tzw. DUŻEGO ERYKA.\n\n\nDariusz Łabędzki pod
 ziękował kierującej Muzeum dr Magdalenie Sidorczuk i jej zespołowi za zaang
 ażowanie w organizację tej wyjątkowej imprezy, której Honorowego Patronatu 
 udzieliło m.in. Ministerstwo Klimatu i Środowiska oraz Ministerstwo Kultury
  i Dziedzictwa Narodowego. Serdecznie gratulujemy!\n\n\n&nbsp; &nbsp;\n\n\n
 Dyplom dla Dariusza Łąbędzkiego oraz rozdanie statuetek Eryka w Muzeum Kary
 katury, maj 2024 r; od lewej: Dariusz Łabędzki, Zbigniew Piszczako, Edward 
 Lutczyn; na drugim planie Tomasz Niewiadomski - prezes Stowarzyszenia Polsk
 ich Artystów Karykatury.\n
CONTACT:Muzeum Geologiczne PIG-PIB i Stowarzyszenie Polskich Artystów Karykatury
DTSTAMP:20260423T224930Z
DTSTART;TZID=Europe/Warsaw:20240529T100000
SEQUENCE:0
TRANSP:OPAQUE
END:VEVENT
END:VCALENDAR