BEGIN:VCALENDAR
VERSION:2.0
PRODID:-//jEvents 2.0 for Joomla//EN
CALSCALE:GREGORIAN
METHOD:PUBLISH
BEGIN:VTIMEZONE
TZID:Europe/Warsaw
BEGIN:STANDARD
DTSTART:20231029T020000
RDATE:20240331T030000
TZOFFSETFROM:+0200
TZOFFSETTO:+0100
TZNAME:Europe/Warsaw CET
END:STANDARD
BEGIN:STANDARD
DTSTART:20241027T020000
RDATE:20250330T030000
TZOFFSETFROM:+0200
TZOFFSETTO:+0100
TZNAME:Europe/Warsaw CET
END:STANDARD
BEGIN:STANDARD
DTSTART:20251026T020000
RDATE:20260329T030000
TZOFFSETFROM:+0200
TZOFFSETTO:+0100
TZNAME:Europe/Warsaw CET
END:STANDARD
BEGIN:STANDARD
DTSTART:20261025T020000
RDATE:20270328T030000
TZOFFSETFROM:+0200
TZOFFSETTO:+0100
TZNAME:Europe/Warsaw CET
END:STANDARD
BEGIN:STANDARD
DTSTART:20271031T020000
RDATE:20280326T030000
TZOFFSETFROM:+0200
TZOFFSETTO:+0100
TZNAME:Europe/Warsaw CET
END:STANDARD
BEGIN:STANDARD
DTSTART:20281029T020000
RDATE:20290325T030000
TZOFFSETFROM:+0200
TZOFFSETTO:+0100
TZNAME:Europe/Warsaw CET
END:STANDARD
BEGIN:STANDARD
DTSTART:20291028T020000
RDATE:20300331T030000
TZOFFSETFROM:+0200
TZOFFSETTO:+0100
TZNAME:Europe/Warsaw CET
END:STANDARD
BEGIN:STANDARD
DTSTART:20301027T020000
RDATE:20310330T030000
TZOFFSETFROM:+0200
TZOFFSETTO:+0100
TZNAME:Europe/Warsaw CET
END:STANDARD
BEGIN:DAYLIGHT
DTSTART:20231005T110000
RDATE:20231029T020000
TZOFFSETFROM:+0100
TZOFFSETTO:+0200
TZNAME:Europe/Warsaw CEST
END:DAYLIGHT
BEGIN:DAYLIGHT
DTSTART:20240331T030000
RDATE:20241027T020000
TZOFFSETFROM:+0100
TZOFFSETTO:+0200
TZNAME:Europe/Warsaw CEST
END:DAYLIGHT
BEGIN:DAYLIGHT
DTSTART:20250330T030000
RDATE:20251026T020000
TZOFFSETFROM:+0100
TZOFFSETTO:+0200
TZNAME:Europe/Warsaw CEST
END:DAYLIGHT
BEGIN:DAYLIGHT
DTSTART:20260329T030000
RDATE:20261025T020000
TZOFFSETFROM:+0100
TZOFFSETTO:+0200
TZNAME:Europe/Warsaw CEST
END:DAYLIGHT
BEGIN:DAYLIGHT
DTSTART:20270328T030000
RDATE:20271031T020000
TZOFFSETFROM:+0100
TZOFFSETTO:+0200
TZNAME:Europe/Warsaw CEST
END:DAYLIGHT
BEGIN:DAYLIGHT
DTSTART:20280326T030000
RDATE:20281029T020000
TZOFFSETFROM:+0100
TZOFFSETTO:+0200
TZNAME:Europe/Warsaw CEST
END:DAYLIGHT
BEGIN:DAYLIGHT
DTSTART:20290325T030000
RDATE:20291028T020000
TZOFFSETFROM:+0100
TZOFFSETTO:+0200
TZNAME:Europe/Warsaw CEST
END:DAYLIGHT
BEGIN:DAYLIGHT
DTSTART:20300331T030000
RDATE:20301027T020000
TZOFFSETFROM:+0100
TZOFFSETTO:+0200
TZNAME:Europe/Warsaw CEST
END:DAYLIGHT
END:VTIMEZONE
BEGIN:VEVENT
UID:68b8e368237b289b1de1a73ba8ac4bc2
CATEGORIES:Imprezy popularnonaukowe
CREATED:20240911T102811
SUMMARY:MineralExpo 2024
LOCATION:Pałac Kultury i Nauki
DESCRIPTION;ENCODING=QUOTED-PRINTABLE:\n\nW pierwszy weekend października odbyły się targi Warsaw Mineral Expo. O
 statnią edycję tej największej w Polsce i jednej z największych w Europie g
 iełd minerałów i biżuterii odwiedziło około 9 tysięcy osób. Partnerem wydar
 zenia było Muzeum Geologiczne PIG-PIB.\n\n\nNa gości czekało blisko 300 wys
 tawców z całego świata. Poza piękną biżuterią, kamieniami szlachetnymi, oka
 zami mineralogicznymi i paleontologicznymi, organizatorzy zapewnili odwiedz
 ającym także mnóstwo innych atrakcji. Wśród nich nie mogło zabraknąć aktywn
 ości przygotowanych przez pracowników Muzeum Geologicznego. W tej edycji wy
 darzenia odwiedzający mogli wziąć udział w warsztatach edukacyjnych pt. „W 
 niezwykłym świecie minerałów”. Podczas zajęć uczestnicy poznali najważniejs
 ze cechy, które umożliwiają makroskopowe rozpoznawanie minerałów. Na podsta
 wie wybranych okazów i ich cech nauczyli się rozpoznawać minerały. Nowo zdo
 byta wiedza z pewnością przydała się podczas późniejszego zwiedzania targów
 .\n\n\nWszystkim, którzy wzięli udział w warsztatach, jeszcze raz serdeczni
 e dziękujemy. Zainteresowanych geologią i naukami pokrewnymi zapraszamy do 
 siedziby naszego Muzeum!\n\n - \n - \n - \n - &nbsp;\n
CONTACT:Muzeum Geologiczne PIG-PIB i www.gieldymineralow.pl
DTSTAMP:20260423T003043Z
DTSTART;TZID=Europe/Warsaw:20241005T110000
SEQUENCE:0
TRANSP:OPAQUE
END:VEVENT
END:VCALENDAR