BEGIN:VCALENDAR
VERSION:2.0
PRODID:-//jEvents 2.0 for Joomla//EN
CALSCALE:GREGORIAN
METHOD:PUBLISH
BEGIN:VTIMEZONE
TZID:Europe/Warsaw
BEGIN:STANDARD
DTSTART:20241027T020000
RDATE:20250330T030000
TZOFFSETFROM:+0200
TZOFFSETTO:+0100
TZNAME:Europe/Warsaw CET
END:STANDARD
BEGIN:STANDARD
DTSTART:20251026T020000
RDATE:20260329T030000
TZOFFSETFROM:+0200
TZOFFSETTO:+0100
TZNAME:Europe/Warsaw CET
END:STANDARD
BEGIN:STANDARD
DTSTART:20261025T020000
RDATE:20270328T030000
TZOFFSETFROM:+0200
TZOFFSETTO:+0100
TZNAME:Europe/Warsaw CET
END:STANDARD
BEGIN:STANDARD
DTSTART:20271031T020000
RDATE:20280326T030000
TZOFFSETFROM:+0200
TZOFFSETTO:+0100
TZNAME:Europe/Warsaw CET
END:STANDARD
BEGIN:STANDARD
DTSTART:20281029T020000
RDATE:20290325T030000
TZOFFSETFROM:+0200
TZOFFSETTO:+0100
TZNAME:Europe/Warsaw CET
END:STANDARD
BEGIN:STANDARD
DTSTART:20291028T020000
RDATE:20300331T030000
TZOFFSETFROM:+0200
TZOFFSETTO:+0100
TZNAME:Europe/Warsaw CET
END:STANDARD
BEGIN:STANDARD
DTSTART:20301027T020000
RDATE:20310330T030000
TZOFFSETFROM:+0200
TZOFFSETTO:+0100
TZNAME:Europe/Warsaw CET
END:STANDARD
BEGIN:DAYLIGHT
DTSTART:20240712T100000
RDATE:20241027T020000
TZOFFSETFROM:+0100
TZOFFSETTO:+0200
TZNAME:Europe/Warsaw CEST
END:DAYLIGHT
BEGIN:DAYLIGHT
DTSTART:20250330T030000
RDATE:20251026T020000
TZOFFSETFROM:+0100
TZOFFSETTO:+0200
TZNAME:Europe/Warsaw CEST
END:DAYLIGHT
BEGIN:DAYLIGHT
DTSTART:20260329T030000
RDATE:20261025T020000
TZOFFSETFROM:+0100
TZOFFSETTO:+0200
TZNAME:Europe/Warsaw CEST
END:DAYLIGHT
BEGIN:DAYLIGHT
DTSTART:20270328T030000
RDATE:20271031T020000
TZOFFSETFROM:+0100
TZOFFSETTO:+0200
TZNAME:Europe/Warsaw CEST
END:DAYLIGHT
BEGIN:DAYLIGHT
DTSTART:20280326T030000
RDATE:20281029T020000
TZOFFSETFROM:+0100
TZOFFSETTO:+0200
TZNAME:Europe/Warsaw CEST
END:DAYLIGHT
BEGIN:DAYLIGHT
DTSTART:20290325T030000
RDATE:20291028T020000
TZOFFSETFROM:+0100
TZOFFSETTO:+0200
TZNAME:Europe/Warsaw CEST
END:DAYLIGHT
BEGIN:DAYLIGHT
DTSTART:20300331T030000
RDATE:20301027T020000
TZOFFSETFROM:+0100
TZOFFSETTO:+0200
TZNAME:Europe/Warsaw CEST
END:DAYLIGHT
END:VTIMEZONE
BEGIN:VEVENT
UID:70428ad3525ca659318115b3b1880d02
CATEGORIES:Imprezy popularnonaukowe
CREATED:20250714T155802
SUMMARY:Niedziela ze Smokiem Diplodokiem
LOCATION:Rakowiecka 4 w Warszawie
DESCRIPTION;ENCODING=QUOTED-PRINTABLE:\n\nW niedzielę 13 lipca gościliśmy &nbsp;w Muzeum Geologicznym PIG-PIB nas
 zych przyjaciół z Muzeum Karykatury w Warszawie. W ramach wizyty odbyło się
  fantastyczne wydarzenie: familijny warsztat z rysowania dinozaurów poprowa
 dzony przez Wojtka Wawszczyka i Tomka Leśniaka - twórców filmu SMOK DIPLODO
 K.\n\n\nWydarzenie rozpoczęło się krótką prezentacją na temat procesu tworz
 enia filmu. Wojtek Wawszczyk zachęcił uczestników warsztatów, by spojrzeli 
 na animację od strony kuchni. Przedstawił pełen proces rysowania, modelowan
 ia i renderowania postaci. Pokazał jak z pomysłu rodzi się film i dlaczego 
 trwa to tak długo.\n\n\n&nbsp;\n - \n - \n - \n\n\nNastępnie przyszedł czas
  na to, co dzieci (i rodzice) lubią najbardziej – rysowanie!\n\n\nTomasz i 
 Wojtek pokazali uczestnikom, jak z prostych figur stworzyć piękne rysunki. 
 W ten sposób z fasolki i łezki zrodził się Smok Diplodok, z trójkąta i kieł
 basek wyczarował się Hokus Pokus, natomiast cztery kółka skręciły Entomolog
 ię.\n\n\n&nbsp;&nbsp;\n - \n - \n - \n - \n - \n - \n - \n\n\nRysowanie pos
 taci z filmu to tylko początek, potem przyszedł czas na uruchomienie wyobra
 źni i stworzenie własnych dinozaurów. Tym sposobem Muzeum opanowały nieznan
 e wcześniej gatunki, które zadziwiły nawet naszych paleontologów. Wśród rys
 unków dominowały Butelkozaury (Butelkusaurus plastikus), Butozaury (Butosau
 rs zwyczajnus) i Kredkozaury (Kredosaurus drewnianus), pokazał się nawet je
 den okaz Sticzozaura (Stichosaurus disneyus).\n\n\n&nbsp;&nbsp;\n - \n - \n
  - \n - \n\n\nNa koniec wszystkie Diplodoki i inne dinozaury powędrowały do
  domów razem z ich szczęśliwymi twórcami.\n\n\nBardzo dziękujemy Tomaszowi,
  Wojtkowi i Muzeum Karykatury za wspaniałe dinotwórcze warsztaty!\n\n\nWojt
 ek Wawszczyk – reżyser, scenarzysta, animator i twórca komiksów.&nbsp; Abso
 lwent PWSFTviT w Łodzi i niemieckiej Filmakademie Baden-Württemberg w Ludwi
 gsburgu. Twórca&nbsp; wielokrotnie nagradzanych krótkometrażowych filmów an
 imowanych (scenariusz, reżyseria, animacja): Headless (1999) i Mysz (2001),
  Pingwin (2002), Drzazga (2007).\n\n\nScenarzysta i reżyser pełnometrażoweg
 o filmu Smok Diplodok (2024), inspirowanego komiksami Tadeusza Baranowskieg
 o.\n\n\nTomasz Lew Leśniak – absolwent wydziału grafiki Europejskiej Akadem
 ii Sztuk. Wspólnie z Rafałem Skarżyckim stworzył szereg serii komiksowych, 
 m.in. Jeż Jerzy, Tymek i Mistrz, Polska mistrzem Polski, oraz serię książek
  dla dzieci Hej, Jędrek!. Reżyser jednego z odcinków serialu Kajko i Kokosz
 .\nArtdirector i główny projektant filmu Smok Diplodok w reżyserii Wojtka W
 awszczyka.
CONTACT:Muzeum Geologiczne PIG-PIB
DTSTAMP:20260419T192204Z
DTSTART;TZID=Europe/Warsaw:20250713T100000
DTEND;TZID=Europe/Warsaw:20250713T170000
SEQUENCE:0
TRANSP:OPAQUE
END:VEVENT
END:VCALENDAR