BEGIN:VCALENDAR
VERSION:2.0
PRODID:-//jEvents 2.0 for Joomla//EN
CALSCALE:GREGORIAN
METHOD:PUBLISH
BEGIN:VTIMEZONE
TZID:Europe/Warsaw
BEGIN:STANDARD
DTSTART:20250221T100000
RDATE:20250330T030000
TZOFFSETFROM:+0200
TZOFFSETTO:+0100
TZNAME:Europe/Warsaw CET
END:STANDARD
BEGIN:STANDARD
DTSTART:20251026T020000
RDATE:20260329T030000
TZOFFSETFROM:+0200
TZOFFSETTO:+0100
TZNAME:Europe/Warsaw CET
END:STANDARD
BEGIN:STANDARD
DTSTART:20261025T020000
RDATE:20270328T030000
TZOFFSETFROM:+0200
TZOFFSETTO:+0100
TZNAME:Europe/Warsaw CET
END:STANDARD
BEGIN:STANDARD
DTSTART:20271031T020000
RDATE:20280326T030000
TZOFFSETFROM:+0200
TZOFFSETTO:+0100
TZNAME:Europe/Warsaw CET
END:STANDARD
BEGIN:STANDARD
DTSTART:20281029T020000
RDATE:20290325T030000
TZOFFSETFROM:+0200
TZOFFSETTO:+0100
TZNAME:Europe/Warsaw CET
END:STANDARD
BEGIN:STANDARD
DTSTART:20291028T020000
RDATE:20300331T030000
TZOFFSETFROM:+0200
TZOFFSETTO:+0100
TZNAME:Europe/Warsaw CET
END:STANDARD
BEGIN:STANDARD
DTSTART:20301027T020000
RDATE:20310330T030000
TZOFFSETFROM:+0200
TZOFFSETTO:+0100
TZNAME:Europe/Warsaw CET
END:STANDARD
BEGIN:DAYLIGHT
DTSTART:20250330T030000
RDATE:20251026T020000
TZOFFSETFROM:+0100
TZOFFSETTO:+0200
TZNAME:Europe/Warsaw CEST
END:DAYLIGHT
BEGIN:DAYLIGHT
DTSTART:20260329T030000
RDATE:20261025T020000
TZOFFSETFROM:+0100
TZOFFSETTO:+0200
TZNAME:Europe/Warsaw CEST
END:DAYLIGHT
BEGIN:DAYLIGHT
DTSTART:20270328T030000
RDATE:20271031T020000
TZOFFSETFROM:+0100
TZOFFSETTO:+0200
TZNAME:Europe/Warsaw CEST
END:DAYLIGHT
BEGIN:DAYLIGHT
DTSTART:20280326T030000
RDATE:20281029T020000
TZOFFSETFROM:+0100
TZOFFSETTO:+0200
TZNAME:Europe/Warsaw CEST
END:DAYLIGHT
BEGIN:DAYLIGHT
DTSTART:20290325T030000
RDATE:20291028T020000
TZOFFSETFROM:+0100
TZOFFSETTO:+0200
TZNAME:Europe/Warsaw CEST
END:DAYLIGHT
BEGIN:DAYLIGHT
DTSTART:20300331T030000
RDATE:20301027T020000
TZOFFSETFROM:+0100
TZOFFSETTO:+0200
TZNAME:Europe/Warsaw CEST
END:DAYLIGHT
END:VTIMEZONE
BEGIN:VEVENT
UID:4e373daec263756759b0c3989b36468e
CATEGORIES:Inne
CREATED:20260219T121745
SUMMARY:Katalog pokonkursowy "Dinosaurs. Still alive?"
LOCATION:Rakowiecka 4 w Warszawie
DESCRIPTION;ENCODING=QUOTED-PRINTABLE:<p>W sklepie&nbsp;LAVA przy&nbsp;Muzeum Geologicznym od niedawna dostępny j
 est katalog wystawy pokonkursowej&nbsp;„DINOSAURS. STILL ALIVE?”!&nbsp;</p>
 <p>W środku znajdziecie ponad 120 prac wybranych spośród zgłoszeń na Między
 narodowy Konkurs na Rysunek Satyryczny „Dinozaury. Ciągle żywe?”. Dodatkowo
 , czeka na Was również tekst o polskich odkryciach paleontologicznych związ
 anych z dinozaurami, który przygotowali paleontolodzy z Muzeum Geologiczneg
 o oraz PIG-PIB - specjaliści od dinozaurów.</p><p>A gdyby ktoś zapragnął zd
 obyć autograf naszych paleontologów - autorów tekstu - to będzie to możliwe
  podczas Dnia Dinozaura w Muzeum Geologicznym PIG-PIB w najbliższą niedziel
 ę 22.02.2026.</p><p>Cena katalogu: 50 zł. Oprawa twarda.&nbsp;</p><p>&nbsp;
 </p><p>{gallery rows=1 cols=5}djmediatools/347-katalog-prac-pokonkursowych{
 /gallery}</p>
CONTACT:Muzeum Geologiczne PIG-PIB
DTSTAMP:20260423T002032Z
DTSTART;TZID=Europe/Warsaw:20260222T100000
SEQUENCE:0
TRANSP:OPAQUE
END:VEVENT
END:VCALENDAR