BEGIN:VCALENDAR
VERSION:2.0
PRODID:-//jEvents 2.0 for Joomla//EN
CALSCALE:GREGORIAN
METHOD:PUBLISH
BEGIN:VTIMEZONE
TZID:Europe/Warsaw
BEGIN:STANDARD
DTSTART:20201025T020000
RDATE:20210328T030000
TZOFFSETFROM:+0200
TZOFFSETTO:+0100
TZNAME:Europe/Warsaw CET
END:STANDARD
BEGIN:STANDARD
DTSTART:20211031T020000
RDATE:20220327T030000
TZOFFSETFROM:+0200
TZOFFSETTO:+0100
TZNAME:Europe/Warsaw CET
END:STANDARD
BEGIN:STANDARD
DTSTART:20221030T020000
RDATE:20230326T030000
TZOFFSETFROM:+0200
TZOFFSETTO:+0100
TZNAME:Europe/Warsaw CET
END:STANDARD
BEGIN:STANDARD
DTSTART:20231029T020000
RDATE:20240331T030000
TZOFFSETFROM:+0200
TZOFFSETTO:+0100
TZNAME:Europe/Warsaw CET
END:STANDARD
BEGIN:STANDARD
DTSTART:20241027T020000
RDATE:20250330T030000
TZOFFSETFROM:+0200
TZOFFSETTO:+0100
TZNAME:Europe/Warsaw CET
END:STANDARD
BEGIN:STANDARD
DTSTART:20251026T020000
RDATE:20260329T030000
TZOFFSETFROM:+0200
TZOFFSETTO:+0100
TZNAME:Europe/Warsaw CET
END:STANDARD
BEGIN:STANDARD
DTSTART:20261025T020000
RDATE:20270328T030000
TZOFFSETFROM:+0200
TZOFFSETTO:+0100
TZNAME:Europe/Warsaw CET
END:STANDARD
BEGIN:STANDARD
DTSTART:20271031T020000
RDATE:20280326T030000
TZOFFSETFROM:+0200
TZOFFSETTO:+0100
TZNAME:Europe/Warsaw CET
END:STANDARD
BEGIN:STANDARD
DTSTART:20281029T020000
RDATE:20290325T030000
TZOFFSETFROM:+0200
TZOFFSETTO:+0100
TZNAME:Europe/Warsaw CET
END:STANDARD
BEGIN:STANDARD
DTSTART:20291028T020000
RDATE:20300331T030000
TZOFFSETFROM:+0200
TZOFFSETTO:+0100
TZNAME:Europe/Warsaw CET
END:STANDARD
BEGIN:STANDARD
DTSTART:20301027T020000
RDATE:20310330T030000
TZOFFSETFROM:+0200
TZOFFSETTO:+0100
TZNAME:Europe/Warsaw CET
END:STANDARD
BEGIN:DAYLIGHT
DTSTART:20200531T080000
RDATE:20201025T020000
TZOFFSETFROM:+0100
TZOFFSETTO:+0200
TZNAME:Europe/Warsaw CEST
END:DAYLIGHT
BEGIN:DAYLIGHT
DTSTART:20210328T030000
RDATE:20211031T020000
TZOFFSETFROM:+0100
TZOFFSETTO:+0200
TZNAME:Europe/Warsaw CEST
END:DAYLIGHT
BEGIN:DAYLIGHT
DTSTART:20220327T030000
RDATE:20221030T020000
TZOFFSETFROM:+0100
TZOFFSETTO:+0200
TZNAME:Europe/Warsaw CEST
END:DAYLIGHT
BEGIN:DAYLIGHT
DTSTART:20230326T030000
RDATE:20231029T020000
TZOFFSETFROM:+0100
TZOFFSETTO:+0200
TZNAME:Europe/Warsaw CEST
END:DAYLIGHT
BEGIN:DAYLIGHT
DTSTART:20240331T030000
RDATE:20241027T020000
TZOFFSETFROM:+0100
TZOFFSETTO:+0200
TZNAME:Europe/Warsaw CEST
END:DAYLIGHT
BEGIN:DAYLIGHT
DTSTART:20250330T030000
RDATE:20251026T020000
TZOFFSETFROM:+0100
TZOFFSETTO:+0200
TZNAME:Europe/Warsaw CEST
END:DAYLIGHT
BEGIN:DAYLIGHT
DTSTART:20260329T030000
RDATE:20261025T020000
TZOFFSETFROM:+0100
TZOFFSETTO:+0200
TZNAME:Europe/Warsaw CEST
END:DAYLIGHT
BEGIN:DAYLIGHT
DTSTART:20270328T030000
RDATE:20271031T020000
TZOFFSETFROM:+0100
TZOFFSETTO:+0200
TZNAME:Europe/Warsaw CEST
END:DAYLIGHT
BEGIN:DAYLIGHT
DTSTART:20280326T030000
RDATE:20281029T020000
TZOFFSETFROM:+0100
TZOFFSETTO:+0200
TZNAME:Europe/Warsaw CEST
END:DAYLIGHT
BEGIN:DAYLIGHT
DTSTART:20290325T030000
RDATE:20291028T020000
TZOFFSETFROM:+0100
TZOFFSETTO:+0200
TZNAME:Europe/Warsaw CEST
END:DAYLIGHT
BEGIN:DAYLIGHT
DTSTART:20300331T030000
RDATE:20301027T020000
TZOFFSETFROM:+0100
TZOFFSETTO:+0200
TZNAME:Europe/Warsaw CEST
END:DAYLIGHT
END:VTIMEZONE
BEGIN:VEVENT
UID:e019a03bfdfb7b9f3ba257a0f98dead5
CATEGORIES:Imprezy popularnonaukowe
CREATED:20210526T151258
SUMMARY:Dzień Dziecka ON-LINE 2021
LOCATION:Sieć
DESCRIPTION;ENCODING=QUOTED-PRINTABLE:&nbsp;\n\nZapraszamy do wspólnej zabawy z okazji Dnia Dziecka!Przygotowaliś
 my dla Was kilka atrakcji, które znajdziecie poniżej.Będą one dostępne od 0
 1/06 do 08/06.\n\n&nbsp;\nKONKURSY\n\n\nLiliowiec z koralików \n\n\nObejrzy
 jcie poniższy film i przygotujcie własnego liliowca. Zdjęcia swoich prac pr
 ześlijcie na adres Ten adres pocztowy jest chroniony przed spamowaniem. Aby
  go zobaczyć, konieczne jest włączenie w przeglądarce obsługi JavaScript.
	
 			document.getElementById('cloakdd049d216ea603fa86b2aa13bf9eef2a').innerHT
 ML = '';
				var prefix = '&#109;a' + 'i&#108;' + '&#116;o';
				var path =
  'hr' + 'ef' + '=';
				var addydd049d216ea603fa86b2aa13bf9eef2a = 'rbr&#11
 1;' + '&#64;';
				addydd049d216ea603fa86b2aa13bf9eef2a = addydd049d216ea60
 3fa86b2aa13bf9eef2a + 'pg&#105;' + '&#46;' + 'g&#111;v' + '&#46;' + 'pl';
	
 			var addy_textdd049d216ea603fa86b2aa13bf9eef2a = 'rbr&#111;' + '&#64;' + 
 'pg&#105;' + '&#46;' + 'g&#111;v' + '&#46;' + 'pl';document.getElementById(
 'cloakdd049d216ea603fa86b2aa13bf9eef2a').innerHTML += ''+addy_textdd049d216
 ea603fa86b2aa13bf9eef2a+'';
		 (tytuł wiadomości „LILIOWIEC Z KORALIKÓW”) d
 o dnia 08/06/2021 włącznie. Spośród nadesłanych prac jury składające się z 
 pracowników Muzeum Geologicznego PIG-PIB, wybierze pięć, których autorzy ot
 rzymają nagrody – do każdego z pięciu laureatów wyślemy dwie książki „Z tat
 ą na dinozaury” + „Dinozaury oraz inne zwierzęta i rośliny prehistoryczne z
  terenu Polski”.\n\n\nWyniki opublikujemy 15/06/2021.&nbsp;\n\n\n\n\n\n&nbs
 p;\n\n\n&nbsp;\nSkaczący niedźwiedź jaskiniowy\n\n\nObejrzyjcie poniższy fi
 lm i przygotujcie własnego skaczącego niedźwiedzia jaskiniowego. Zdjęcia sw
 oich prac prześlijcie na adres Ten adres pocztowy jest chroniony przed spam
 owaniem. Aby go zobaczyć, konieczne jest włączenie w przeglądarce obsługi J
 avaScript.
				document.getElementById('cloak8afd753016408cddf5336ef876c12c
 ad').innerHTML = '';
				var prefix = '&#109;a' + 'i&#108;' + '&#116;o';
		
 		var path = 'hr' + 'ef' + '=';
				var addy8afd753016408cddf5336ef876c12ca
 d = 'rbr&#111;' + '&#64;';
				addy8afd753016408cddf5336ef876c12cad = addy8
 afd753016408cddf5336ef876c12cad + 'pg&#105;' + '&#46;' + 'g&#111;v' + '&#46
 ;' + 'pl';
				var addy_text8afd753016408cddf5336ef876c12cad = 'rbr&#111;' 
 + '&#64;' + 'pg&#105;' + '&#46;' + 'g&#111;v' + '&#46;' + 'pl';document.get
 ElementById('cloak8afd753016408cddf5336ef876c12cad').innerHTML += ''+addy_t
 ext8afd753016408cddf5336ef876c12cad+'';
		 (tytuł wiadomości „SKACZĄCY NIED
 ŹWIEDŹ”) do dnia 08/06/2021 włącznie. Spośród nadesłanych prac jury składaj
 ące się z pracowników Muzeum Geologicznego PIG-PIB, wybierze pięć, których 
 autorzy otrzymają nagrody – do każdego z pięciu laureatów wyślemy dwie ksią
 żki „Z tatą na dinozaury” + „Dinozaury oraz inne zwierzęta i rośliny prehis
 toryczne z tereny Polski”.\n\n\nWyniki opublikujemy 15/06/2021.&nbsp;\n\n\n
 \n&nbsp; \nWARSZTATY "ZRÓB TO SAM"\n\n\nGeody\n\n\nJeżeli podobają Wam się 
 geody, pustki w skale wypełnione minerałami, poniżej podajemy prosty sposób
  jak przygotować takie okazy domowym sposobem. Uwaga – potrzebna będzie pom
 oc osoby dorosłej!\n\n\n[link] PDF jak przygotować geodę w domu\n\n\n&nbsp;
 \nDinozaury 3D\n\n\nWytnij i złóż własnego dinozaura – poniżej mamy dla Was
  dwa dinozaury, drapieżnego tyranozaura i pancernego ankylozaura, które moż
 ecie pokolorować, wyciąć i skleić, jak na poniższych filmikach. Do dzieła!&
 nbsp;\n\n\n\n\n\nPlansze do wydrukowania [ankylozaur lewa strona] [ankyloza
 ur prawa strona]\n\n\n&nbsp;\n\n\n\n\n\nPlansze do wydrukowania [tyranozaur
  lewa strona] [tyranozaur prawa strona]\n\n\n&nbsp;\nJak narysować tricerat
 opsa\n\n\nJeżeli nie jesteście pewni jak się rysuje dinozaury, poniżej dwa 
 przykłady. Czy potraficie narysować tak samo?&nbsp;\n &nbsp;\n\n&nbsp;\nGRY
  I ZABAWY\n\n\nKrzyżówka geologiczna \n\n\nCzy znasz odpowiedzi na wszystki
 e pytania i potrafisz odkryć ukryte hasło?&nbsp;\n\n\n[link] krzyżówka + ha
 sła [link]\n\n\n&nbsp;\nZnajdź różnicę\n\n\nZadanie dla uważnych – czy te o
 brazki są takie same? Potrafisz odnaleźć wszystkie różnice? Pamiętaj, że na
  koniec możesz je pokolorować&nbsp;\n\n\n[link] obrazek z jaskiniami\n&nbsp
 ;\nPaleo-zwierzak na wakacjach\n\n\n\nWakacje tuż tuż i z tej okazji mamy d
 la Was konkurs – narysuj swojego ulubionego paleo-zwierzaka na wakacjach. N
 ie musi to być dinozaur :) Swoją pracę prześlijcie na adres Ten adres poczt
 owy jest chroniony przed spamowaniem. Aby go zobaczyć, konieczne jest włącz
 enie w przeglądarce obsługi JavaScript.
				document.getElementById('cloak6
 ea65fdf8521caea1fd7a3829f810a86').innerHTML = '';
				var prefix = '&#109;a
 ' + 'i&#108;' + '&#116;o';
				var path = 'hr' + 'ef' + '=';
				var addy6e
 a65fdf8521caea1fd7a3829f810a86 = 'rbr&#111;' + '&#64;';
				addy6ea65fdf852
 1caea1fd7a3829f810a86 = addy6ea65fdf8521caea1fd7a3829f810a86 + 'pg&#105;' +
  '&#46;' + 'g&#111;v' + '&#46;' + 'pl';
				var addy_text6ea65fdf8521caea1f
 d7a3829f810a86 = 'rbr&#111;' + '&#64;' + 'pg&#105;' + '&#46;' + 'g&#111;v' 
 + '&#46;' + 'pl';document.getElementById('cloak6ea65fdf8521caea1fd7a3829f81
 0a86').innerHTML += ''+addy_text6ea65fdf8521caea1fd7a3829f810a86+'';
		 (ty
 tuł wiadomości „WAKACJE”) do dnia 08/06/2021 włącznie. Spośród nadesłanych 
 prac jury składające się z pracowników Muzeum Geologicznego PIG-PIB, wybier
 ze pięć, których autorzy otrzymają nagrody – do każdego z pięciu laureatów 
 wyślemy dwie książki „Gdy na Ziemi żyły dinozaury” + „Dinozaury – nalepkowa
  książeczka”.\n\n\n&nbsp;\n\n\n\n\n&nbsp;\n\n\nFinansowanie: Narodowy Fundu
 sz Ochrony Środowiska i Gospodarki Wodnej\n\n\n&nbsp; \n
CONTACT:Muzeum Geologiczne
DTSTAMP:20260425T230519Z
DTSTART;TZID=Europe/Warsaw:20210601T080000
SEQUENCE:0
TRANSP:OPAQUE
END:VEVENT
END:VCALENDAR